BEGIN:VCALENDAR
VERSION:2.0
PRODID:-//wp-events-plugin.com//6.6.3//EN
TZID:Europe/Stockholm
X-WR-TIMEZONE:Europe/Stockholm
BEGIN:VEVENT
UID:73@gafsverige.se
DTSTART;TZID=Europe/Stockholm:20250401T100000
DTEND;TZID=Europe/Stockholm:20250401T110000
DTSTAMP:20250321T132818Z
URL:https://gafsverige.se/events/bidragsportalen-digitalt-infomote-vt2025/
SUMMARY:Bidragsportalen - Digitalt infomöte
DESCRIPTION:”Det projektet hade varit bra för vår verksamhet\, men…
 ”\n\nEn viktig del i att göra verklighet av klubbens projekt är att f
 å bidrag till dem. Men att hitta bidragen kan kännas som rena djungeln\,
  där du varken har karta eller kompass. Som bäst kan man räkna upp en h
 andfull bidragsgivare\, men vilka bidrag finns egentligen? När öppnar oc
 h stänger de? Vilka projekt är behöriga att söka bidrag för? Vilka kr
 äver medfinansiering?\n\nDen 1 april kl. 10.00 visar Carolin Nilsson Wahl
 gren från Bidragsportalen hur tjänsten ser ut och fungerar\, och kan bes
 vara era frågor. Klicka på länken här nedan och anslut till mötet den
  1 april kl 10.00. Ingen föranmälan behövs.\n\nBesök bidragsportalens 
 hemsida www.bidragsportalen.se här &gt\;&gt\;&gt\;\n\nLäs mer om infomö
 tet här på GAF:s hemsida &gt\;&gt\;&gt\;\nAnslut till mötet här 1 apri
 l kl 10.00 &gt\;&gt\;&gt\;\nDet går även att anmäla sig via GAF:s hemsi
 da här nedan så skickar vi ut länken till dig innan mötet.\n\n\n
ATTACH;FMTTYPE=image/jpeg:https://gafsverige.se/wp-content/uploads/2025/03
 /bidragsportalen-1920x1080px-2502_002-1.png
CATEGORIES:Utbildning - Extern utbildning,Utbildningar
LOCATION:MS Teams / Internet\, *\, *\, Sverige
X-APPLE-STRUCTURED-LOCATION;VALUE=URI;X-ADDRESS=*\, *\, Sverige;X-APPLE-RAD
 IUS=100;X-TITLE=MS Teams / Internet:geo:0,0
END:VEVENT
BEGIN:VTIMEZONE
TZID:Europe/Stockholm
X-LIC-LOCATION:Europe/Stockholm
BEGIN:DAYLIGHT
DTSTART:20250330T030000
TZOFFSETFROM:+0100
TZOFFSETTO:+0200
TZNAME:CEST
END:DAYLIGHT
END:VTIMEZONE
END:VCALENDAR