BEGIN:VCALENDAR
VERSION:2.0
PRODID:-//wp-events-plugin.com//6.6.3//EN
TZID:Europe/Stockholm
X-WR-TIMEZONE:Europe/Stockholm
BEGIN:VEVENT
UID:118@gafsverige.se
DTSTART;TZID=Europe/Stockholm;VALUE=DATE:20261025
DTEND;TZID=Europe/Stockholm;VALUE=DATE:20261029
DTSTAMP:20260311T234939Z
URL:https://gafsverige.se/events/cmae-european-conference-on-club-manageme
 nt-2026/
SUMMARY:CMAE - European Conference on Club Management
DESCRIPTION:European Conference on Club Management 2026 in St Andrews\n\nJo
 in us in the historic and globally renowned town of St Andrews on the 25
 –28 October 2026 for an unforgettable few days of learning and inspirati
 on.\n\nThis flagship biennial conference will mark 25 years of CMAE\, and 
 brings together general managers\, club executives\, and industry experts 
 from across Europe\, the Middle East\, and beyond. Delegates will experien
 ce immersive education\, forward-thinking insights\, and unparalleled netw
 orking opportunities – all set within a destination steeped in tradition
  and excellence.\n\nIn addition to the conference program\, delegates will
  have the option to participate in an extra day of activities\, including 
 golf at world-class courses\, padel tennis\, and other recreational and so
 cial experiences designed to enrich the St Andrews visit and foster deeper
  professional connections.\n\nRegistration is now Open!\nLimited Early Bir
 d places available\nOnly the first 100 delegates will secure the Early Bir
 d rate — so we encourage you to register early to avoid missing out.\n\n
 BOOK YOUR PLACE &gt\;&gt\;&gt\;\n\nTo register for the European Conference
  on Club Management and to learn more about the event\, please visit https
 ://web.cvent.com/event/41ff3f9f-66e2-43fc-9583-629ae55d3bdb/summary
ATTACH;FMTTYPE=image/jpeg:https://gafsverige.se/wp-content/uploads/2026/03
 /cmae-European-Conference-1920x800px-2026_01_redigerad-1.png
CATEGORIES:CMAE
LOCATION:Old Course Hotel\, Old Station Road\, St Andrews\, KY16 9SP\, Fife
 \, Scotland
X-APPLE-STRUCTURED-LOCATION;VALUE=URI;X-ADDRESS=Old Station Road\, St Andre
 ws\, KY16 9SP\, Fife\, Scotland;X-APPLE-RADIUS=100;X-TITLE=Old Course Hote
 l:geo:0,0
END:VEVENT
BEGIN:VTIMEZONE
TZID:Europe/Stockholm
X-LIC-LOCATION:Europe/Stockholm
BEGIN:DAYLIGHT
DTSTART:20260329T030000
TZOFFSETFROM:+0100
TZOFFSETTO:+0200
TZNAME:CEST
END:DAYLIGHT
BEGIN:STANDARD
DTSTART:20261025T020000
TZOFFSETFROM:+0200
TZOFFSETTO:+0100
TZNAME:CET
END:STANDARD
END:VTIMEZONE
END:VCALENDAR