BEGIN:VCALENDAR
VERSION:2.0
PRODID:-//wp-events-plugin.com//6.6.3//EN
TZID:Europe/Stockholm
X-WR-TIMEZONE:Europe/Stockholm
BEGIN:VEVENT
UID:84@gafsverige.se
DTSTART;TZID=Europe/Stockholm:20251014T093000
DTEND;TZID=Europe/Stockholm:20251016T160000
DTSTAMP:20250922T174457Z
URL:https://gafsverige.se/events/ga-golfadministration-ht2025/
SUMMARY:GA – Golfadministration på Kallfors
DESCRIPTION:GA – Golfadministration\n\nDen här utbildningen är din star
 tpunkt på resan inom en unik arbetsmiljö där passion\, service och geme
 nskap står i centrum. Oavsett om du sitter i receptionen eller jobbar med
  administration på kansliet får du här kunskap\, verktyg och inspiratio
 n för att känna dig trygg och engagerad i din roll – och bli en viktig
  del av golfanläggningens hjärta. Utbildningen vänder sig till dig som
  arbetar på golfanläggningens kansli och i reception.\n\nDatum och tider
 \nPreliminärt datum/tid för webbdag är (v 40) dagen X oktober ca kl 09.
 00-16.00.\nStarttid för utbildningen på plats är tisdag 14 oktober ca k
 l 09:30 och avslut 16 oktober ca kl 16:30.\nPreliminärt datum/tid för we
 bbdag är (v 46) dagen X november ca kl 09.00-16.00.\n\nLäs mer om GA - G
 olfadministration här &gt\;&gt\;&gt\;\n\nSista anmälningsdag: 23 septemb
 er 2025.\n\nI kursavgiften ingår kurslokal\, föreläsare\, aktivitet\, k
 ost och logi*. Priser inkl moms.\n\nObservera att anmälan är bindande\n1
 00% återbetalning vid avanmälan 4 veckor innan start.\n50% återbetalnin
 g vid avanmälan 2 veckor innan start.\nAvanmälan mindre än 2 veckor inn
 an ges ingen återbetalning.\nAvanmälan görs till GAF kansli på kansli@
 gafsverige.se.\n\nOm utbildningen är fulltecknad? Kontakta GAF kansliet f
 ör plats på reservlistan.
ATTACH;FMTTYPE=image/jpeg:https://gafsverige.se/wp-content/uploads/2024/05
 /Klubb-Management-Utbildning-20.png
CATEGORIES:Utbildning - GA,Utbildningar
LOCATION:Kallfors Hotell & Konferens\, Kallforsvägen 95\, JÄRNA\, 153 95\
 , Sverige
X-APPLE-STRUCTURED-LOCATION;VALUE=URI;X-ADDRESS=Kallforsvägen 95\, JÄRNA\
 , 153 95\, Sverige;X-APPLE-RADIUS=100;X-TITLE=Kallfors Hotell & Konferens:
 geo:0,0
END:VEVENT
BEGIN:VTIMEZONE
TZID:Europe/Stockholm
X-LIC-LOCATION:Europe/Stockholm
BEGIN:DAYLIGHT
DTSTART:20250330T030000
TZOFFSETFROM:+0100
TZOFFSETTO:+0200
TZNAME:CEST
END:DAYLIGHT
END:VTIMEZONE
END:VCALENDAR