BEGIN:VCALENDAR
VERSION:2.0
PRODID:-//wp-events-plugin.com//6.6.3//EN
TZID:Europe/Stockholm
X-WR-TIMEZONE:Europe/Stockholm
BEGIN:VEVENT
UID:95@gafsverige.se
DTSTART;TZID=Europe/Stockholm:20260325T150000
DTEND;TZID=Europe/Stockholm:20260325T170000
DTSTAMP:20260312T113438Z
URL:https://gafsverige.se/events/gaf-arsmote-2026/
SUMMARY:GAF Årsmöte 2026
DESCRIPTION:GAF Årsmöte kommer hållas onsdag 25 mars 2026 kl 15.00 – D
 igitalt.\n\nKallelse och handlingar kommer att finnas på GAFs hemsida i
 nför mötet.\n\nÅrsmöte GAF\nNär: Onsdagen 25:e mars 2026\nTid: 15.00\
 nPlats: MS Teams/Internet\n\nGör din anmälan till årsmötet här nedan.
ATTACH;FMTTYPE=image/jpeg:https://gafsverige.se/wp-content/uploads/2026/03
 /ordforandeklubba-1920x1080px-vit.jpg
CATEGORIES:Medlem
LOCATION:MS Teams / Internet\, *\, *\, Sverige
X-APPLE-STRUCTURED-LOCATION;VALUE=URI;X-ADDRESS=*\, *\, Sverige;X-APPLE-RAD
 IUS=100;X-TITLE=MS Teams / Internet:geo:0,0
END:VEVENT
BEGIN:VTIMEZONE
TZID:Europe/Stockholm
X-LIC-LOCATION:Europe/Stockholm
BEGIN:STANDARD
DTSTART:20251026T020000
TZOFFSETFROM:+0200
TZOFFSETTO:+0100
TZNAME:CET
END:STANDARD
END:VTIMEZONE
END:VCALENDAR