BEGIN:VCALENDAR
VERSION:2.0
PRODID:-//wp-events-plugin.com//6.6.3//EN
TZID:Europe/Stockholm
X-WR-TIMEZONE:Europe/Stockholm
BEGIN:VEVENT
UID:105@gafsverige.se
DTSTART;TZID=Europe/Stockholm:20261208T090000
DTEND;TZID=Europe/Stockholm:20261209T160000
DTSTAMP:20260108T174953Z
URL:https://gafsverige.se/events/gaf-styrelse-styrelsemote-6-sommarmotet-2
 026-2/
SUMMARY:GAF Styrelse - Styrelsemöte 9 & Vintermötet
DESCRIPTION:GAF styrelse och kansli har styrelsemöte och arbetsmöte.
ATTACH;FMTTYPE=image/jpeg:https://gafsverige.se/wp-content/uploads/2023/10
 /gaf-img-1.png
CATEGORIES:GAF Styrelse
END:VEVENT
BEGIN:VTIMEZONE
TZID:Europe/Stockholm
X-LIC-LOCATION:Europe/Stockholm
BEGIN:STANDARD
DTSTART:20261025T020000
TZOFFSETFROM:+0200
TZOFFSETTO:+0100
TZNAME:CET
END:STANDARD
END:VTIMEZONE
END:VCALENDAR