BEGIN:VCALENDAR
VERSION:2.0
PRODID:-//wp-events-plugin.com//6.6.3//EN
TZID:Europe/Stockholm
X-WR-TIMEZONE:Europe/Stockholm
BEGIN:VEVENT
UID:104@gafsverige.se
DTSTART;TZID=Europe/Stockholm:20260615T090000
DTEND;TZID=Europe/Stockholm:20260617T160000
DTSTAMP:20260108T173827Z
URL:https://gafsverige.se/events/gaf-styrelse-styrelsemote-6-sommarmotet-2
 026/
SUMMARY:GAF Styrelse - Styrelsemöte 6 & Sommarmötet
DESCRIPTION:GAF styrelse och kansli har styrelsemöte och arbetsmöte.
ATTACH;FMTTYPE=image/jpeg:https://gafsverige.se/wp-content/uploads/2023/10
 /gaf-img-1.png
CATEGORIES:GAF Styrelse
LOCATION:Landeryds Golfklubb\, Vesterby Links\, Västerby Gård\, BROKIND\,
  590 41\, Sverige
X-APPLE-STRUCTURED-LOCATION;VALUE=URI;X-ADDRESS=Västerby Gård\, BROKIND\,
  590 41\, Sverige;X-APPLE-RADIUS=100;X-TITLE=Landeryds Golfklubb\, Vesterb
 y Links:geo:0,0
END:VEVENT
BEGIN:VTIMEZONE
TZID:Europe/Stockholm
X-LIC-LOCATION:Europe/Stockholm
BEGIN:DAYLIGHT
DTSTART:20260329T030000
TZOFFSETFROM:+0100
TZOFFSETTO:+0200
TZNAME:CEST
END:DAYLIGHT
END:VTIMEZONE
END:VCALENDAR