BEGIN:VCALENDAR
VERSION:2.0
PRODID:-//wp-events-plugin.com//6.6.3//EN
TZID:Europe/Stockholm
X-WR-TIMEZONE:Europe/Stockholm
BEGIN:VEVENT
UID:136@gafsverige.se
DTSTART;TZID=Europe/Stockholm:20261020T100000
DTEND;TZID=Europe/Stockholm:20261022T150000
DTSTAMP:20260421T101750Z
URL:https://gafsverige.se/events/git3dagars-vecka-43/
SUMMARY:GIT3dagars+ -
DESCRIPTION:GIT3dagars+\n\nVecka 43 tisdag-torsdag.\n\nPlats och program ej
  klart.\n\nAnmälan ej möjlig för närvarande.\n\n&nbsp\;
CATEGORIES:Utbildning - GIT3dagars,Utbildningar
END:VEVENT
BEGIN:VTIMEZONE
TZID:Europe/Stockholm
X-LIC-LOCATION:Europe/Stockholm
BEGIN:DAYLIGHT
DTSTART:20260329T030000
TZOFFSETFROM:+0100
TZOFFSETTO:+0200
TZNAME:CEST
END:DAYLIGHT
END:VTIMEZONE
END:VCALENDAR