BEGIN:VCALENDAR
VERSION:2.0
PRODID:-//wp-events-plugin.com//6.6.3//EN
TZID:Europe/Stockholm
X-WR-TIMEZONE:Europe/Stockholm
BEGIN:VEVENT
UID:123@gafsverige.se
DTSTART;TZID=Europe/Stockholm:20261013T090000
DTEND;TZID=Europe/Stockholm:20261015T170000
DTSTAMP:20260330T133322Z
URL:https://gafsverige.se/events/golfens-klubbchefsutbildning-skede-1-2628
 /
SUMMARY:Golfens Klubbchefsutbildning - Skede 1
DESCRIPTION:Golfens Klubbchefsutbildning - Skede 1\n\nLäs mer om Golfens K
 lubbchefsutbildning (GKCU) på hemsidan.\n\nI väntan på att anmälan öp
 pnar kan intresseanmälan göras.\nIntresseanmälan till GKCU 2026-2028 ka
 n göras på GAF:s hemsida här &gt\;&gt\;&gt\;\n\nPrel. Utbildningsplan 2
 026-2028\n(denna info uppdateras ej här efter 30 mars\, se utbildningen f
 ör aktuell info)\n\n2026\nSkede 1: 13-15 oktober. Barsebäck\nSkede 2: 1-
 3 december. IHM Göteborg\n2027\nSkede 3: 12-14 januari. IHM Göteborg\nSk
 ede 4: 16-18 mars. IHM Göteborg\nSkede 5: 5-7 oktober. TBA\nSkede 6: 9-11
  november. Omberg\nSkede 7: 30 november-2 december. IHM Stockholm\n2028\nS
 kede 8: 11-13 januari. IHM Göteborg\nSkede 9: 14-16 mars (examination). I
 HM Göteborg\n\n&nbsp\;
ATTACH;FMTTYPE=image/jpeg:https://gafsverige.se/wp-content/uploads/2024/05
 /GKCU-3_2-scaled.jpg
CATEGORIES:Utbildning - GKCU,Utbildningar
LOCATION:Barsebäck Resort\, Klubbhusvägen 5\, LÖDDEKÖPINGE\, 246 55\, S
 verige
X-APPLE-STRUCTURED-LOCATION;VALUE=URI;X-ADDRESS=Klubbhusvägen 5\, LÖDDEK
 ÖPINGE\, 246 55\, Sverige;X-APPLE-RADIUS=100;X-TITLE=Barsebäck Resort:ge
 o:0,0
END:VEVENT
BEGIN:VTIMEZONE
TZID:Europe/Stockholm
X-LIC-LOCATION:Europe/Stockholm
BEGIN:DAYLIGHT
DTSTART:20260329T030000
TZOFFSETFROM:+0100
TZOFFSETTO:+0200
TZNAME:CEST
END:DAYLIGHT
END:VTIMEZONE
END:VCALENDAR