BEGIN:VCALENDAR
VERSION:2.0
PRODID:-//wp-events-plugin.com//6.6.3//EN
TZID:Europe/Stockholm
X-WR-TIMEZONE:Europe/Stockholm
BEGIN:VEVENT
UID:124@gafsverige.se
DTSTART;TZID=Europe/Stockholm:20261201T090000
DTEND;TZID=Europe/Stockholm:20261203T170000
DTSTAMP:20260330T131313Z
URL:https://gafsverige.se/events/golfens-klubbchefsutbildning-skede-2-2628
 /
SUMMARY:Golfens Klubbchefsutbildning - Skede 2
DESCRIPTION:Golfens Klubbchefsutbildning - Skede 2\n\nLäs mer om Golfens K
 lubbchefsutbildning (GKCU) på hemsidan.\n\nI väntan på att anmälan öp
 pnar kan intresseanmälan göras.\nIntresseanmälan till GKCU 2026-2028 ka
 n göras på GAF:s hemsida här &gt\;&gt\;&gt\;\n\nPrel. Utbildningsplan 2
 026-2028\n(denna info uppdateras ej här efter 30 mars\, se utbildningen f
 ör aktuell info)\n\n2026\nSkede 1: 13-15 oktober. Barsebäck\nSkede 2: 1-
 3 december. IHM Göteborg\n2027\nSkede 3: 12-14 januari. IHM Göteborg\nSk
 ede 4: 16-18 mars. IHM Göteborg\nSkede 5: 5-7 oktober. TBA\nSkede 6: 9-11
  november. Omberg\nSkede 7: 30 november-2 december. IHM Stockholm\n2028\nS
 kede 8: 11-13 januari. IHM Göteborg\nSkede 9: 14-16 mars (examination). I
 HM Göteborg\n\n&nbsp\;
ATTACH;FMTTYPE=image/jpeg:https://gafsverige.se/wp-content/uploads/2024/05
 /GKCU-3_2-scaled.jpg
CATEGORIES:Utbildning - GKCU,Utbildningar
LOCATION:IHM Business School\, Fabriksgatan 25\, GÖTEBORG\, 41250\, Sverig
 e
X-APPLE-STRUCTURED-LOCATION;VALUE=URI;X-ADDRESS=Fabriksgatan 25\, GÖTEBORG
 \, 41250\, Sverige;X-APPLE-RADIUS=100;X-TITLE=IHM Business School:geo:0,0
END:VEVENT
BEGIN:VTIMEZONE
TZID:Europe/Stockholm
X-LIC-LOCATION:Europe/Stockholm
BEGIN:STANDARD
DTSTART:20261025T020000
TZOFFSETFROM:+0200
TZOFFSETTO:+0100
TZNAME:CET
END:STANDARD
END:VTIMEZONE
END:VCALENDAR