BEGIN:VCALENDAR
VERSION:2.0
PRODID:-//wp-events-plugin.com//6.6.3//EN
TZID:Europe/Stockholm
X-WR-TIMEZONE:Europe/Stockholm
BEGIN:VEVENT
UID:126@gafsverige.se
DTSTART;TZID=Europe/Stockholm:20270316T090000
DTEND;TZID=Europe/Stockholm:20270318T170000
DTSTAMP:20260330T133653Z
URL:https://gafsverige.se/events/golfens-klubbchefsutbildning-skede-4-2628
 /
SUMMARY:Golfens Klubbchefsutbildning - Skede 4
DESCRIPTION:Golfens Klubbchefsutbildning - Skede 4\n\nLäs mer om Golfens K
 lubbchefsutbildning (GKCU) på hemsidan.\n\n&nbsp\;\n\n&nbsp\;
ATTACH;FMTTYPE=image/jpeg:https://gafsverige.se/wp-content/uploads/2024/05
 /GKCU-3_2-scaled.jpg
CATEGORIES:Utbildning - GKCU,Utbildningar
LOCATION:IHM Business School\, Fabriksgatan 25\, GÖTEBORG\, 41250\, Sverig
 e
X-APPLE-STRUCTURED-LOCATION;VALUE=URI;X-ADDRESS=Fabriksgatan 25\, GÖTEBORG
 \, 41250\, Sverige;X-APPLE-RADIUS=100;X-TITLE=IHM Business School:geo:0,0
END:VEVENT
BEGIN:VTIMEZONE
TZID:Europe/Stockholm
X-LIC-LOCATION:Europe/Stockholm
BEGIN:STANDARD
DTSTART:20261025T020000
TZOFFSETFROM:+0200
TZOFFSETTO:+0100
TZNAME:CET
END:STANDARD
END:VTIMEZONE
END:VCALENDAR