BEGIN:VCALENDAR
VERSION:2.0
PRODID:-//wp-events-plugin.com//6.6.3//EN
TZID:Europe/Stockholm
X-WR-TIMEZONE:Europe/Stockholm
BEGIN:VEVENT
UID:127@gafsverige.se
DTSTART;TZID=Europe/Stockholm:20271005T090000
DTEND;TZID=Europe/Stockholm:20271007T170000
DTSTAMP:20260330T140440Z
URL:https://gafsverige.se/events/golfens-klubbchefsutbildning-skede-5-2628
 /
SUMMARY:Golfens Klubbchefsutbildning - Skede 5
DESCRIPTION:Golfens Klubbchefsutbildning - Skede 5\n\nLäs mer om Golfens K
 lubbchefsutbildning (GKCU) på hemsidan.\n\n&nbsp\;\n\n&nbsp\;
ATTACH;FMTTYPE=image/jpeg:https://gafsverige.se/wp-content/uploads/2024/05
 /GKCU-3_2-scaled.jpg
CATEGORIES:Utbildning - GKCU,Utbildningar
LOCATION:TBA - (To Be Announced)\, Okänd adress\, Okänd Stad\, STOCKHOLM\
 , 11111\, Sverige
X-APPLE-STRUCTURED-LOCATION;VALUE=URI;X-ADDRESS=Okänd adress\, Okänd Stad
 \, STOCKHOLM\, 11111\, Sverige;X-APPLE-RADIUS=100;X-TITLE=TBA - (To Be Ann
 ounced):geo:0,0
END:VEVENT
BEGIN:VTIMEZONE
TZID:Europe/Stockholm
X-LIC-LOCATION:Europe/Stockholm
BEGIN:DAYLIGHT
DTSTART:20270328T030000
TZOFFSETFROM:+0100
TZOFFSETTO:+0200
TZNAME:CEST
END:DAYLIGHT
END:VTIMEZONE
END:VCALENDAR