BEGIN:VCALENDAR
VERSION:2.0
PRODID:-//wp-events-plugin.com//6.6.3//EN
TZID:Europe/Stockholm
X-WR-TIMEZONE:Europe/Stockholm
BEGIN:VEVENT
UID:128@gafsverige.se
DTSTART;TZID=Europe/Stockholm:20271109T090000
DTEND;TZID=Europe/Stockholm:20271111T170000
DTSTAMP:20260330T140628Z
URL:https://gafsverige.se/events/golfens-klubbchefsutbildning-skede-6-2628
 /
SUMMARY:Golfens Klubbchefsutbildning - Skede 6
DESCRIPTION:Golfens Klubbchefsutbildning - Skede 6\n\nLäs mer om Golfens K
 lubbchefsutbildning (GKCU) på hemsidan.\n\n&nbsp\;\n\n&nbsp\;
ATTACH;FMTTYPE=image/jpeg:https://gafsverige.se/wp-content/uploads/2024/05
 /GKCU-3_2-scaled.jpg
CATEGORIES:Utbildning - GKCU,Utbildningar
LOCATION:Ombergs Golf Resort\, Stora Lund\,\, ÖDESHÖG\, 599 93\, Sverige
X-APPLE-STRUCTURED-LOCATION;VALUE=URI;X-ADDRESS=Stora Lund\,\, ÖDESHÖG\, 
 599 93\, Sverige;X-APPLE-RADIUS=100;X-TITLE=Ombergs Golf Resort:geo:0,0
END:VEVENT
BEGIN:VTIMEZONE
TZID:Europe/Stockholm
X-LIC-LOCATION:Europe/Stockholm
BEGIN:STANDARD
DTSTART:20271031T020000
TZOFFSETFROM:+0200
TZOFFSETTO:+0100
TZNAME:CET
END:STANDARD
END:VTIMEZONE
END:VCALENDAR