BEGIN:VCALENDAR
VERSION:2.0
PRODID:-//wp-events-plugin.com//6.6.3//EN
TZID:Europe/Stockholm
X-WR-TIMEZONE:Europe/Stockholm
BEGIN:VEVENT
UID:129@gafsverige.se
DTSTART;TZID=Europe/Stockholm:20271130T090000
DTEND;TZID=Europe/Stockholm:20271202T170000
DTSTAMP:20260330T141100Z
URL:https://gafsverige.se/events/golfens-klubbchefsutbildning-skede-7-2628
 /
SUMMARY:Golfens Klubbchefsutbildning - Skede 7
DESCRIPTION:Golfens Klubbchefsutbildning - Skede 7\n\nLäs mer om Golfens K
 lubbchefsutbildning (GKCU) på hemsidan.\n\n&nbsp\;\n\n&nbsp\;
ATTACH;FMTTYPE=image/jpeg:https://gafsverige.se/wp-content/uploads/2024/05
 /GKCU-3_2-scaled.jpg
CATEGORIES:Utbildning - GKCU,Utbildningar
LOCATION:IHM Business School\, Warfvinges Väg 39\, STOCKHOLM\, 112 51\, Sv
 erige
X-APPLE-STRUCTURED-LOCATION;VALUE=URI;X-ADDRESS=Warfvinges Väg 39\, STOCKH
 OLM\, 112 51\, Sverige;X-APPLE-RADIUS=100;X-TITLE=IHM Business School:geo:
 0,0
END:VEVENT
BEGIN:VTIMEZONE
TZID:Europe/Stockholm
X-LIC-LOCATION:Europe/Stockholm
BEGIN:STANDARD
DTSTART:20271031T020000
TZOFFSETFROM:+0200
TZOFFSETTO:+0100
TZNAME:CET
END:STANDARD
END:VTIMEZONE
END:VCALENDAR