BEGIN:VCALENDAR
VERSION:2.0
PRODID:-//wp-events-plugin.com//6.6.3//EN
TZID:Europe/Stockholm
X-WR-TIMEZONE:Europe/Stockholm
BEGIN:VEVENT
UID:131@gafsverige.se
DTSTART;TZID=Europe/Stockholm:20280314T090000
DTEND;TZID=Europe/Stockholm:20280316T170000
DTSTAMP:20260330T142101Z
URL:https://gafsverige.se/events/golfens-klubbchefsutbildning-skede-9-2628
 /
SUMMARY:Golfens Klubbchefsutbildning - Skede 9
DESCRIPTION:Golfens Klubbchefsutbildning - Skede 9 (examination)\n\nLäs me
 r om Golfens Klubbchefsutbildning (GKCU) på hemsidan.\n\n&nbsp\;\n\n&nbsp
 \;
ATTACH;FMTTYPE=image/jpeg:https://gafsverige.se/wp-content/uploads/2024/05
 /GKCU-3_2-scaled.jpg
CATEGORIES:Utbildning - GKCU,Utbildningar
LOCATION:IHM Business School\, Fabriksgatan 25\, GÖTEBORG\, 41250\, Sverig
 e
X-APPLE-STRUCTURED-LOCATION;VALUE=URI;X-ADDRESS=Fabriksgatan 25\, GÖTEBORG
 \, 41250\, Sverige;X-APPLE-RADIUS=100;X-TITLE=IHM Business School:geo:0,0
END:VEVENT
BEGIN:VTIMEZONE
TZID:Europe/Stockholm
X-LIC-LOCATION:Europe/Stockholm
BEGIN:STANDARD
DTSTART:20271031T020000
TZOFFSETFROM:+0200
TZOFFSETTO:+0100
TZNAME:CET
END:STANDARD
END:VTIMEZONE
END:VCALENDAR