BEGIN:VCALENDAR
VERSION:2.0
PRODID:-//wp-events-plugin.com//6.6.3//EN
TZID:Europe/Stockholm
X-WR-TIMEZONE:Europe/Stockholm
BEGIN:VEVENT
UID:34@gafsverige.se
DTSTART;TZID=Europe/Stockholm:20240522T093000
DTEND;TZID=Europe/Stockholm:20240522T153000
DTSTAMP:20240505T114647Z
URL:https://gafsverige.se/events/kc-och-kr-traff-delsjo-gk-2024/
SUMMARY:KC och KR träff - Delsjö Golfklubb
DESCRIPTION:Välkommen till Klubbchef- och Kansli &amp\; Reception träff p
 å Delsjö GK\n\nDu kommer att få möjlighet att utbyta kunskaper och erf
 arenheter med dina kollegor i branschen. En givande och trevlig dag där v
 årens tema är ”10/15/15”. Erfarenheter och diskussioner kring olika 
 utmaningar som har varit\, som vi är mitt i eller som ligger framför oss
 . Det kommer det bli stort utrymme för samtal i olika konstellationer.\n\
 nDagen börjar med en presentation av värdklubben. Sen kör vi i gång me
 d diskussioner i större och mindre grupper. I samband med lunch presenter
 ar GAF partners några av årets nyheter\, varor och tjänster. Efter lunc
 h fortsätter vi på temat diskussioner och erfarenhetsutbyte.\n\nVi träf
 fas på golfanläggningen aktuell dag med fika från kl 09.30. Start kl 1
 0.00.\n\nRamprogram:\n\nFika från 09.30 och Start kl 10.00\n\n 	Värdklub
 ben hälsar välkommen och berättar kort om klubben och anläggningen\n 	
 Presentationer\, inledning och upplägg av dagen\n 	10/15/15 Workshop krin
 g angelägna frågeställningar\n 	GAF Partnerpresentationer\n\nLunch ca 1
 2.30\n\n 	Eftermiddagens 10/15/15\n\nFika ca 15.00\n\n 	Fortsatta diskussi
 oner\n 	Avslut senast 16.00\n\nFör mer information eller frågor\, kontak
 ta\n\nAnna Tidén på telefon 08-622 15 51 eller epost anna@gafsverige.se
 \n\nHjärtligt välkomna!\nGAF Kansli\, GAF styrelse och GAF Partners samt
  Värdklubben
ATTACH;FMTTYPE=image/jpeg:https://gafsverige.se/wp-content/uploads/2023/10
 /gaf-img-1.png
CATEGORIES:KC och KR träffar,Medlem
LOCATION:Delsjö Golfklubb\, Gamla Boråsvägen 25\, GÖTEBORG\, 412 76\, S
 verige
X-APPLE-STRUCTURED-LOCATION;VALUE=URI;X-ADDRESS=Gamla Boråsvägen 25\, GÖ
 TEBORG\, 412 76\, Sverige;X-APPLE-RADIUS=100;X-TITLE=Delsjö Golfklubb:geo
 :0,0
END:VEVENT
BEGIN:VTIMEZONE
TZID:Europe/Stockholm
X-LIC-LOCATION:Europe/Stockholm
BEGIN:DAYLIGHT
DTSTART:20240331T030000
TZOFFSETFROM:+0100
TZOFFSETTO:+0200
TZNAME:CEST
END:DAYLIGHT
END:VTIMEZONE
END:VCALENDAR