BEGIN:VCALENDAR
VERSION:2.0
PRODID:-//wp-events-plugin.com//6.6.3//EN
TZID:Europe/Stockholm
X-WR-TIMEZONE:Europe/Stockholm
BEGIN:VEVENT
UID:111@gafsverige.se
DTSTART;TZID=Europe/Stockholm:20260519T093000
DTEND;TZID=Europe/Stockholm:20260519T160000
DTSTAMP:20260331T012303Z
URL:https://gafsverige.se/events/kc-och-kr-traff-lindesbergs-golfklubb-vt-
 2026/
SUMMARY:KC och KR träff - Lindesbergs Golfklubb
DESCRIPTION:Välkommen till GAF regionträff för Klubbchef/VD och Kansli/R
 eception på Lindesbergs GK\n\nGAF bjuder in dig som klubbchef\, kanslist 
 &amp\; receptionist eller motsvarande till träff med utbildning\, erfaren
 hetsutbyte och diskussioner. Vi träffas på olika platser (se kalendern) 
 och du väljer den som är bäst för dig.\n\nDet kommer att finnas mycket
  att prata om i år. Hur tar vi oss an dagsaktuella ärenden och framtida 
 utmaningar. Presentationer av klubben där vi är – allt från nytt klub
 bhus till nyrenoverad bana – alltid har det hänt något där vi är. St
 ora möjligheter att bjuda på din kunskap och ta del av andras lärdomar.
  Erfarenhetsutbyte\, glädje och gemenskap.\nDagen börjar med en presenta
 tion av värdklubben. Sen kör vi i gång med diskussioner och presentatio
 ner kring aktuella frågeställningar eller annat upplägg i större och/e
 ller mindre grupper. I samband med lunch presenterar GAF partners några a
 v årets nyheter\, varor och tjänster. Efter lunch fortsätter vi med dis
 kussioner och presentationer och erfarenhetsutbyte. På flera platser komm
 er personal från GIT teamet att vara med och svarar på frågor och berä
 ttar om nyheter i GIT systemet. Resultaten från höstens/vinterns Arbetsm
 iljö- &amp\; medarbetar undersökningen presenteras..\n\nRamprogram för 
 träffarna. Aktuellt program skickas ut till deltagarna via epost innan ak
 tuell träff.\n\nRamprogram:\n\nVi träffas på golfanläggningen aktuell 
 dag med fika och uppstart från kl 09.30. Start 10.00.\n\nStart 10.00\n\n 
 	Värdklubben hälsar välkommen och berättar kort om klubben och anlägg
 ningen\n 	Presentationer\, inledning och upplägg av dagen\n 	Diskussioner
  och presentationer kring aktuella frågeställningar eller annat upplägg
 \n 	Resultaten från Arbetsmiljöundersökningen\n 	Korta GAF Partnerspres
 entationer\n\nLunch ca 12.45\n\n 	GIT teamets timma\n 	Fortsatta diskussio
 ner och presentationer\n 	Avslut med kaffe och kaka ca 15.30\n 	Golf för 
 de som önskar umgås och spela- anmäl om du är intresserad!\n\nAnmälan
 \n\nSista anmälningsdag är 7 dagar innan träffen.\n\nKostnad\n\nGAF bju
 der på kaffe och fralla på förmiddagen\nDeltagarna betalar lunchen sjä
 lva\nKlubben brukar bjuda på kaffe och liten kaka på eftermiddagen\n\nKC
  och KR träffarna är gratis och är för GAFs medlemmar och GAFs Partner
 s.\n(Är du inte medlem i GAF? Kontakta GAF kansli).\n\nFör mer informati
 on eller frågor\, kontakta\n\nAnna Tidén på telefon 08-622 15 51 eller 
 epost anna@gafsverige.se\n\nHjärtligt välkomna!\nGAF Kansli\, GAF styrel
 se och GAF Partners samt Värdklubben\n\n&nbsp\;
ATTACH;FMTTYPE=image/jpeg:https://gafsverige.se/wp-content/uploads/2026/03
 /Lindesbergs-GK-1920x1080px-2605_0001.png
CATEGORIES:KC och KR träffar,Medlem
LOCATION:Lindesbergs Golfklubb\, Jungfruhagsvägen 11\, LINDESBERG\, 711 31
 \, Sverige
X-APPLE-STRUCTURED-LOCATION;VALUE=URI;X-ADDRESS=Jungfruhagsvägen 11\, LIND
 ESBERG\, 711 31\, Sverige;X-APPLE-RADIUS=100;X-TITLE=Lindesbergs Golfklubb
 :geo:0,0
END:VEVENT
BEGIN:VTIMEZONE
TZID:Europe/Stockholm
X-LIC-LOCATION:Europe/Stockholm
BEGIN:DAYLIGHT
DTSTART:20260329T030000
TZOFFSETFROM:+0100
TZOFFSETTO:+0200
TZNAME:CEST
END:DAYLIGHT
END:VTIMEZONE
END:VCALENDAR