BEGIN:VCALENDAR
VERSION:2.0
PRODID:-//wp-events-plugin.com//6.6.3//EN
TZID:Europe/Stockholm
X-WR-TIMEZONE:Europe/Stockholm
BEGIN:VEVENT
UID:35@gafsverige.se
DTSTART;TZID=Europe/Stockholm:20240528T093000
DTEND;TZID=Europe/Stockholm:20240528T153000
DTSTAMP:20240505T114712Z
URL:https://gafsverige.se/events/kc-och-kr-traff-orebro-city-golf-country-
 club-2024/
SUMMARY:KC och KR träff - Örebro City Golf & Country Club
DESCRIPTION:Välkommen till Klubbchef- och Kansli &amp\; Reception träff p
 å Örebro City Golf &amp\; CC\n\nDu kommer att få möjlighet att utbyta 
 kunskaper och erfarenheter med dina kollegor i branschen. En givande och t
 revlig dag där vårens tema är ”10/15/15”. Erfarenheter och diskussi
 oner kring olika utmaningar som har varit\, som vi är mitt i eller som li
 gger framför oss. Det kommer det bli stort utrymme för samtal i olika ko
 nstellationer.\n\nDagen börjar med en presentation av värdklubben. Sen k
 ör vi i gång med diskussioner i större och mindre grupper. I samband me
 d lunch presenterar GAF partners några av årets nyheter\, varor och tjä
 nster. Efter lunch fortsätter vi på temat diskussioner och erfarenhetsut
 byte.\n\nVi träffas på golfanläggningen aktuell dag med fika från kl 
 09.30. Start kl 10.00.\n\nRamprogram:\n\nFika från 09.30 och Start kl 10.
 00\n\n 	Värdklubben hälsar välkommen och berättar kort om klubben och 
 anläggningen\n 	Presentationer\, inledning och upplägg av dagen\n 	10/15
 /15 Workshop kring angelägna frågeställningar\n 	GAF Partnerpresentatio
 ner\n\nLunch ca 12.30\n\n 	Eftermiddagens 10/15/15\n\nFika ca 15.00\n\n 	F
 ortsatta diskussioner\n 	Avslut senast 16.00\n\nFör mer information eller
  frågor\, kontakta\n\nAnna Tidén på telefon 08-622 15 51 eller epost a
 nna@gafsverige.se\n\nHjärtligt välkomna!\nGAF Kansli\, GAF styrelse och 
 GAF Partners samt Värdklubben
ATTACH;FMTTYPE=image/jpeg:https://gafsverige.se/wp-content/uploads/2023/10
 /gaf-img-1.png
CATEGORIES:KC och KR träffar,Medlem
LOCATION:Örebro City Golf & Country Club\, Golfbanevägen 4\, ÖREBRO\, 70
 2 30\, Sverige
X-APPLE-STRUCTURED-LOCATION;VALUE=URI;X-ADDRESS=Golfbanevägen 4\, ÖREBRO\
 , 702 30\, Sverige;X-APPLE-RADIUS=100;X-TITLE=Örebro City Golf & Country 
 Club:geo:0,0
END:VEVENT
BEGIN:VTIMEZONE
TZID:Europe/Stockholm
X-LIC-LOCATION:Europe/Stockholm
BEGIN:DAYLIGHT
DTSTART:20240331T030000
TZOFFSETFROM:+0100
TZOFFSETTO:+0200
TZNAME:CEST
END:DAYLIGHT
END:VTIMEZONE
END:VCALENDAR