BEGIN:VCALENDAR
VERSION:2.0
PRODID:-//wp-events-plugin.com//6.6.3//EN
TZID:Europe/Stockholm
X-WR-TIMEZONE:Europe/Stockholm
BEGIN:VEVENT
UID:33@gafsverige.se
DTSTART;TZID=Europe/Stockholm:20240521T093000
DTEND;TZID=Europe/Stockholm:20240521T153000
DTSTAMP:20240505T114625Z
URL:https://gafsverige.se/events/kc-och-kr-traff-sand-gc-2024/
SUMMARY:KC och KR träff - Sand Golf Club
DESCRIPTION:Välkommen till Klubbchef- och Kansli &amp\; Reception träff p
 å Sand GC\n\nDu kommer att få möjlighet att utbyta kunskaper och erfare
 nheter med dina kollegor i branschen. En givande och trevlig dag där vår
 ens tema är ”10/15/15”. Erfarenheter och diskussioner kring olika utm
 aningar som har varit\, som vi är mitt i eller som ligger framför oss. D
 et kommer det bli stort utrymme för samtal i olika konstellationer.\n\nDa
 gen börjar med en presentation av värdklubben. Sen kör vi i gång med d
 iskussioner i större och mindre grupper. I samband med lunch presenterar 
 GAF partners några av årets nyheter\, varor och tjänster. Efter lunch f
 ortsätter vi på temat diskussioner och erfarenhetsutbyte.\n\nVi träffas
  på golfanläggningen aktuell dag med fika från kl 09.30. Start kl 10.0
 0.\n\nRamprogram:\n\nFika från 09.30 och Start kl 10.00\n\n 	Värdklubben
  hälsar välkommen och berättar kort om klubben och anläggningen\n 	Pre
 sentationer\, inledning och upplägg av dagen\n 	10/15/15 Workshop kring a
 ngelägna frågeställningar\n 	GAF Partnerpresentationer\n\nLunch ca 12.3
 0\n\n 	Eftermiddagens 10/15/15\n\nFika ca 15.00\n\n 	Fortsatta diskussione
 r\n 	Avslut senast 16.00\n\nFör mer information eller frågor\, kontakta\
 n\nAnna Tidén på telefon 08-622 15 51 eller epost anna@gafsverige.se\n\
 nHjärtligt välkomna!\nGAF Kansli\, GAF styrelse och GAF Partners samt V
 ärdklubben
ATTACH;FMTTYPE=image/jpeg:https://gafsverige.se/wp-content/uploads/2023/10
 /gaf-img-1.png
CATEGORIES:KC och KR träffar,Medlem
LOCATION:Sand Golf Club\, Tornaryd\, BANKERYD\, 564 91\, Sverige
X-APPLE-STRUCTURED-LOCATION;VALUE=URI;X-ADDRESS=Tornaryd\, BANKERYD\, 564 9
 1\, Sverige;X-APPLE-RADIUS=100;X-TITLE=Sand Golf Club:geo:0,0
END:VEVENT
BEGIN:VTIMEZONE
TZID:Europe/Stockholm
X-LIC-LOCATION:Europe/Stockholm
BEGIN:DAYLIGHT
DTSTART:20240331T030000
TZOFFSETFROM:+0100
TZOFFSETTO:+0200
TZNAME:CEST
END:DAYLIGHT
END:VTIMEZONE
END:VCALENDAR