BEGIN:VCALENDAR
VERSION:2.0
PRODID:-//wp-events-plugin.com//6.6.3//EN
TZID:Europe/Stockholm
X-WR-TIMEZONE:Europe/Stockholm
BEGIN:VEVENT
UID:113@gafsverige.se
DTSTART;TZID=Europe/Stockholm:20260602T093000
DTEND;TZID=Europe/Stockholm:20260602T160000
DTSTAMP:20260331T012402Z
URL:https://gafsverige.se/events/kc-och-kr-traff-sand-golf-club-vt-2026/
SUMMARY:KC och KR träff - Sand Golf Club
DESCRIPTION:Välkommen till GAF regionträff för Klubbchef/VD och Kansli/R
 eception på Sand GC\n\nGAF bjuder in dig som klubbchef\, kanslist &amp\; 
 receptionist eller motsvarande till träff med utbildning\, erfarenhetsutb
 yte och diskussioner. Vi träffas på olika platser (se kalendern) och du 
 väljer den som är bäst för dig.\n\nDet kommer att finnas mycket att pr
 ata om i år. Hur tar vi oss an dagsaktuella ärenden och framtida utmanin
 gar. Presentationer av klubben där vi är – allt från nytt klubbhus ti
 ll nyrenoverad bana – alltid har det hänt något där vi är. Stora mö
 jligheter att bjuda på din kunskap och ta del av andras lärdomar. Erfare
 nhetsutbyte\, glädje och gemenskap.\nDagen börjar med en presentation av
  värdklubben. Sen kör vi i gång med diskussioner och presentationer kri
 ng aktuella frågeställningar eller annat upplägg i större och/eller mi
 ndre grupper. I samband med lunch presenterar GAF partners några av året
 s nyheter\, varor och tjänster. Efter lunch fortsätter vi med diskussion
 er och presentationer och erfarenhetsutbyte. På flera platser kommer pers
 onal från GIT teamet att vara med och svarar på frågor och berättar om
  nyheter i GIT systemet. Resultaten från höstens/vinterns Arbetsmiljö- 
 &amp\; medarbetar undersökningen presenteras..\n\nRamprogram för träffa
 rna. Aktuellt program skickas ut till deltagarna via epost innan aktuell t
 räff.\n\nRamprogram:\n\nVi träffas på golfanläggningen aktuell dag med
  fika och uppstart från kl 09.30. Start 10.00.\n\nStart 10.00\n\n 	Värdk
 lubben hälsar välkommen och berättar kort om klubben och anläggningen\
 n 	Presentationer\, inledning och upplägg av dagen\n 	Diskussioner och pr
 esentationer kring aktuella frågeställningar eller annat upplägg\n 	Res
 ultaten från Arbetsmiljöundersökningen\n 	Korta GAF Partnerspresentatio
 ner\n\nLunch ca 12.45\n\n 	GIT teamets timma\n 	Fortsatta diskussioner och
  presentationer\n 	Avslut med kaffe och kaka ca 15.30\n 	Golf för de som 
 önskar umgås och spela- anmäl om du är intresserad!\n\nAnmälan\n\nSis
 ta anmälningsdag är 7 dagar innan träffen.\n\nKostnad\n\nGAF bjuder på
  kaffe och fralla på förmiddagen\nDeltagarna betalar lunchen själva\nKl
 ubben brukar bjuda på kaffe och liten kaka på eftermiddagen\n\nKC och KR
  träffarna är gratis och är för GAFs medlemmar och GAFs Partners.\n(Ä
 r du inte medlem i GAF? Kontakta GAF kansli).\n\nFör mer information elle
 r frågor\, kontakta\n\nAnna Tidén på telefon 08-622 15 51 eller epost a
 nna@gafsverige.se\n\nHjärtligt välkomna!\nGAF Kansli\, GAF styrelse och 
 GAF Partners samt Värdklubben\n\n&nbsp\;
ATTACH;FMTTYPE=image/jpeg:https://gafsverige.se/wp-content/uploads/2026/03
 /Sand-GC-1920x1080px-2605_0001.png
CATEGORIES:KC och KR träffar,Medlem
LOCATION:Sand Golf Club\, Tornaryd\, BANKERYD\, 564 91\, Sverige
X-APPLE-STRUCTURED-LOCATION;VALUE=URI;X-ADDRESS=Tornaryd\, BANKERYD\, 564 9
 1\, Sverige;X-APPLE-RADIUS=100;X-TITLE=Sand Golf Club:geo:0,0
END:VEVENT
BEGIN:VTIMEZONE
TZID:Europe/Stockholm
X-LIC-LOCATION:Europe/Stockholm
BEGIN:DAYLIGHT
DTSTART:20260329T030000
TZOFFSETFROM:+0100
TZOFFSETTO:+0200
TZNAME:CEST
END:DAYLIGHT
END:VTIMEZONE
END:VCALENDAR