BEGIN:VCALENDAR
VERSION:2.0
PRODID:-//wp-events-plugin.com//6.6.3//EN
TZID:Europe/Stockholm
X-WR-TIMEZONE:Europe/Stockholm
BEGIN:VEVENT
UID:32@gafsverige.se
DTSTART;TZID=Europe/Stockholm:20240515T093000
DTEND;TZID=Europe/Stockholm:20240515T153000
DTSTAMP:20240503T212546Z
URL:https://gafsverige.se/events/kc-och-kr-traff-soderslatts-gk-2024/
SUMMARY:KC och KR träff - Söderslätts Golfklubb
DESCRIPTION:Välkommen till Klubbchef- och Kansli &amp\; Reception träff p
 å Söderslätts GK\n\nDu kommer att få möjlighet att utbyta kunskaper o
 ch erfarenheter med dina kollegor i branschen. En givande och trevlig dag 
 där vårens tema är ”10/15/15”. Erfarenheter och diskussioner kring 
 olika utmaningar som har varit\, som vi är mitt i eller som ligger framf
 ör oss. Det kommer det bli stort utrymme för samtal i olika konstellatio
 ner.\n\nDagen börjar med en presentation av värdklubben. Sen kör vi i g
 ång med diskussioner i större och mindre grupper. I samband med lunch pr
 esenterar GAF partners några av årets nyheter\, varor och tjänster. Eft
 er lunch fortsätter vi på temat diskussioner och erfarenhetsutbyte.\n\nV
 i träffas på golfanläggningen aktuell dag med fika från kl 09.30. Sta
 rt kl 10.00.\n\nRamprogram:\n\nFika från 09.30 och Start kl 10.00\n\n 	V
 ärdklubben hälsar välkommen och berättar kort om klubben och anläggni
 ngen\n 	Presentationer\, inledning och upplägg av dagen\n 	10/15/15 Works
 hop kring angelägna frågeställningar\n 	GAF Partnerpresentationer\n\nLu
 nch ca 12.30\n\n 	Eftermiddagens 10/15/15\n\nFika ca 15.00\n\n 	Fortsatta 
 diskussioner\n 	Avslut senast 16.00\n\nFör mer information eller frågor\
 , kontakta\n\nAnna Tidén på telefon 08-622 15 51 eller epost anna@gafsv
 erige.se\n\nHjärtligt välkomna!\nGAF Kansli\, GAF styrelse och GAF Partn
 ers samt Värdklubben
ATTACH;FMTTYPE=image/jpeg:https://gafsverige.se/wp-content/uploads/2023/10
 /gaf-img-1.png
CATEGORIES:KC och KR träffar,Medlem
LOCATION:Söderslätts Golfklubb\, Grevievägen 260-10\, VELLINGE\, 235 94\
 , Sverige
X-APPLE-STRUCTURED-LOCATION;VALUE=URI;X-ADDRESS=Grevievägen 260-10\, VELLI
 NGE\, 235 94\, Sverige;X-APPLE-RADIUS=100;X-TITLE=Söderslätts Golfklubb:
 geo:0,0
END:VEVENT
BEGIN:VTIMEZONE
TZID:Europe/Stockholm
X-LIC-LOCATION:Europe/Stockholm
BEGIN:DAYLIGHT
DTSTART:20240331T030000
TZOFFSETFROM:+0100
TZOFFSETTO:+0200
TZNAME:CEST
END:DAYLIGHT
END:VTIMEZONE
END:VCALENDAR