BEGIN:VCALENDAR
VERSION:2.0
PRODID:-//wp-events-plugin.com//6.6.3//EN
TZID:Europe/Stockholm
X-WR-TIMEZONE:Europe/Stockholm
BEGIN:VEVENT
UID:31@gafsverige.se
DTSTART;TZID=Europe/Stockholm:20240513T093000
DTEND;TZID=Europe/Stockholm:20240513T153000
DTSTAMP:20240503T212339Z
URL:https://gafsverige.se/events/kc-och-kr-traff-solvesborgs-gk-2024/
SUMMARY:KC och KR träff - Sölvesborgs Golfklubb
DESCRIPTION:Välkommen till Klubbchef- och Kansli &amp\; Reception träff p
 å Sölvesborgs GK\n\nDu kommer att få möjlighet att utbyta kunskaper oc
 h erfarenheter med dina kollegor i branschen. En givande och trevlig dag d
 är vårens tema är ”10/15/15”. Erfarenheter och diskussioner kring o
 lika utmaningar som har varit\, som vi är mitt i eller som ligger framfö
 r oss. Det kommer det bli stort utrymme för samtal i olika konstellatione
 r.\n\nDagen börjar med en presentation av värdklubben. Sen kör vi i gå
 ng med diskussioner i större och mindre grupper. I samband med lunch pres
 enterar GAF partners några av årets nyheter\, varor och tjänster. Efter
  lunch fortsätter vi på temat diskussioner och erfarenhetsutbyte.\n\nVi 
 träffas på golfanläggningen aktuell dag med fika från kl 09.30. Start 
 kl 10.00.\n\nRamprogram:\n\nFika från 09.30 och Start kl 10.00\n\n 	Värd
 klubben hälsar välkommen och berättar kort om klubben och anläggningen
 \n 	Presentationer\, inledning och upplägg av dagen\n 	10/15/15 Workshop 
 kring angelägna frågeställningar\n 	GAF Partnerpresentationer\n\nLunch 
 ca 12.30\n\n 	Eftermiddagens 10/15/15\n\nFika ca 15.00\n\n 	Fortsatta disk
 ussioner\n 	Avslut senast 16.00\n\nFör mer information eller frågor\, ko
 ntakta\n\nAnna Tidén på telefon 08-622 15 51 eller epost anna@gafsverige
 .se\n\nHjärtligt välkomna!\nGAF Kansli\, GAF styrelse och GAF Partners s
 amt Värdklubben
ATTACH;FMTTYPE=image/jpeg:https://gafsverige.se/wp-content/uploads/2023/10
 /gaf-img-1.png
CATEGORIES:KC och KR träffar,Medlem
LOCATION:Sölvesborgs Golfklubb\, Ljunganabbevägen 149\, SÖLVESBORG\, 294
 91\, Sverige
X-APPLE-STRUCTURED-LOCATION;VALUE=URI;X-ADDRESS=Ljunganabbevägen 149\, SÖ
 LVESBORG\, 29491\, Sverige;X-APPLE-RADIUS=100;X-TITLE=Sölvesborgs Golfklu
 bb:geo:0,0
END:VEVENT
BEGIN:VTIMEZONE
TZID:Europe/Stockholm
X-LIC-LOCATION:Europe/Stockholm
BEGIN:DAYLIGHT
DTSTART:20240331T030000
TZOFFSETFROM:+0100
TZOFFSETTO:+0200
TZNAME:CEST
END:DAYLIGHT
END:VTIMEZONE
END:VCALENDAR