BEGIN:VCALENDAR
VERSION:2.0
PRODID:-//wp-events-plugin.com//6.6.3//EN
TZID:Europe/Stockholm
X-WR-TIMEZONE:Europe/Stockholm
BEGIN:VEVENT
UID:116@gafsverige.se
DTSTART;TZID=Europe/Stockholm:20260915T093000
DTEND;TZID=Europe/Stockholm:20260915T160000
DTSTAMP:20260331T012510Z
URL:https://gafsverige.se/events/kc-och-kr-traff-st-arild-golfklubb-ht-202
 6/
SUMMARY:KC och KR träff - S:t Arild Golfklubb
DESCRIPTION:Välkommen till GAF regionträff för Klubbchef/VD och Kansli/R
 eception på S:t Arild GK\n\nGAF bjuder in dig som klubbchef\, kanslist &a
 mp\; receptionist eller motsvarande till träff med utbildning\, erfarenhe
 tsutbyte och diskussioner. Vi träffas på olika platser (se kalendern) oc
 h du väljer den som är bäst för dig.\n\nDet kommer att finnas mycket a
 tt prata om i år. Hur tar vi oss an dagsaktuella ärenden och framtida ut
 maningar. Presentationer av klubben där vi är – allt från nytt klubbh
 us till nyrenoverad bana – alltid har det hänt något där vi är. Stor
 a möjligheter att bjuda på din kunskap och ta del av andras lärdomar. E
 rfarenhetsutbyte\, glädje och gemenskap.\nDagen börjar med en presentati
 on av värdklubben. Sen kör vi i gång med diskussioner och presentatione
 r kring aktuella frågeställningar eller annat upplägg i större och/ell
 er mindre grupper. I samband med lunch presenterar GAF partners några av 
 årets nyheter\, varor och tjänster. Efter lunch fortsätter vi med disku
 ssioner och presentationer och erfarenhetsutbyte. På flera platser kommer
  personal från GIT teamet att vara med och svarar på frågor och berätt
 ar om nyheter i GIT systemet. Resultaten från höstens/vinterns Arbetsmil
 jö- &amp\; medarbetar undersökningen presenteras..\n\nRamprogram för tr
 äffarna. Aktuellt program skickas ut till deltagarna via epost innan aktu
 ell träff.\n\nRamprogram:\n\nVi träffas på golfanläggningen aktuell da
 g med fika och uppstart från kl 09.30. Start 10.00.\n\nStart 10.00\n\n 	V
 ärdklubben hälsar välkommen och berättar kort om klubben och anläggni
 ngen\n 	Presentationer\, inledning och upplägg av dagen\n 	Diskussioner o
 ch presentationer kring aktuella frågeställningar eller annat upplägg\n
  	Resultaten från Arbetsmiljöundersökningen\n 	Korta GAF Partnerspresen
 tationer\n\nLunch ca 12.45\n\n 	GIT teamets timma\n 	Fortsatta diskussione
 r och presentationer\n 	Avslut med kaffe och kaka ca 15.30\n 	Golf för de
  som önskar umgås och spela- anmäl om du är intresserad!\n\nAnmälan\n
 \nSista anmälningsdag är 7 dagar innan träffen.\n\nKostnad\n\nGAF bjude
 r på kaffe och fralla på förmiddagen\nDeltagarna betalar lunchen själv
 a\nKlubben brukar bjuda på kaffe och liten kaka på eftermiddagen\n\nKC o
 ch KR träffarna är gratis och är för GAFs medlemmar och GAFs Partners.
 \n(Är du inte medlem i GAF? Kontakta GAF kansli).\n\nFör mer information
  eller frågor\, kontakta\n\nAnna Tidén på telefon 08-622 15 51 eller ep
 ost anna@gafsverige.se\n\nHjärtligt välkomna!\nGAF Kansli\, GAF styrelse
  och GAF Partners samt Värdklubben\n\n&nbsp\;
ATTACH;FMTTYPE=image/jpeg:https://gafsverige.se/wp-content/uploads/2023/11
 /golfboll-scaled.jpg
CATEGORIES:KC och KR träffar,Medlem
LOCATION:S:t Arild Golfklubb\, Golfvägen 48\, SKÄRET\, 263 72\, Sverige
X-APPLE-STRUCTURED-LOCATION;VALUE=URI;X-ADDRESS=Golfvägen 48\, SKÄRET\, 2
 63 72\, Sverige;X-APPLE-RADIUS=100;X-TITLE=S:t Arild Golfklubb:geo:0,0
END:VEVENT
BEGIN:VTIMEZONE
TZID:Europe/Stockholm
X-LIC-LOCATION:Europe/Stockholm
BEGIN:DAYLIGHT
DTSTART:20260329T030000
TZOFFSETFROM:+0100
TZOFFSETTO:+0200
TZNAME:CEST
END:DAYLIGHT
END:VTIMEZONE
END:VCALENDAR