BEGIN:VCALENDAR
VERSION:2.0
PRODID:-//wp-events-plugin.com//6.6.3//EN
TZID:Europe/Stockholm
X-WR-TIMEZONE:Europe/Stockholm
BEGIN:VEVENT
UID:114@gafsverige.se
DTSTART;TZID=Europe/Stockholm:20260611T093000
DTEND;TZID=Europe/Stockholm:20260611T160000
DTSTAMP:20260331T012421Z
URL:https://gafsverige.se/events/kc-och-kr-traff-umea-norrmjole-gk-vt-2026
 /
SUMMARY:KC och KR träff - Umeå Norrmjöle GK
DESCRIPTION:Välkommen till GAF regionträff för Klubbchef/VD och Kansli/R
 eception på Umeå Norrmjöle GK\n\nGAF bjuder in dig som klubbchef\, kans
 list &amp\; receptionist eller motsvarande till träff med utbildning\, er
 farenhetsutbyte och diskussioner. Vi träffas på olika platser (se kalend
 ern) och du väljer den som är bäst för dig.\n\nDet kommer att finnas m
 ycket att prata om i år. Hur tar vi oss an dagsaktuella ärenden och fram
 tida utmaningar. Presentationer av klubben där vi är – allt från nytt
  klubbhus till nyrenoverad bana – alltid har det hänt något där vi ä
 r. Stora möjligheter att bjuda på din kunskap och ta del av andras lärd
 omar. Erfarenhetsutbyte\, glädje och gemenskap.\nDagen börjar med en pre
 sentation av värdklubben. Sen kör vi i gång med diskussioner och presen
 tationer kring aktuella frågeställningar eller annat upplägg i större 
 och/eller mindre grupper. I samband med lunch presenterar GAF partners nå
 gra av årets nyheter\, varor och tjänster. Efter lunch fortsätter vi me
 d diskussioner och presentationer och erfarenhetsutbyte. På flera platser
  kommer personal från GIT teamet att vara med och svarar på frågor och 
 berättar om nyheter i GIT systemet. Resultaten från höstens/vinterns Ar
 betsmiljö- &amp\; medarbetar undersökningen presenteras..\n\nRamprogram 
 för träffarna. Aktuellt program skickas ut till deltagarna via epost inn
 an aktuell träff.\n\nRamprogram:\n\nVi träffas på golfanläggningen akt
 uell dag med fika och uppstart från kl 09.30. Start 10.00.\n\nStart 10.00
 \n\n 	Värdklubben hälsar välkommen och berättar kort om klubben och an
 läggningen\n 	Presentationer\, inledning och upplägg av dagen\n 	Diskuss
 ioner och presentationer kring aktuella frågeställningar eller annat upp
 lägg\n 	Resultaten från Arbetsmiljöundersökningen\n 	Korta GAF Partner
 spresentationer\n\nLunch ca 12.45\n\n 	GIT teamets timma\n 	Fortsatta disk
 ussioner och presentationer\n 	Avslut med kaffe och kaka ca 15.30\n 	Golf 
 för de som önskar umgås och spela- anmäl om du är intresserad!\n\nAnm
 älan\n\nSista anmälningsdag är 7 dagar innan träffen.\n\nKostnad\n\nGA
 F bjuder på kaffe och fralla på förmiddagen\nDeltagarna betalar lunchen
  själva\nKlubben brukar bjuda på kaffe och liten kaka på eftermiddagen\
 n\nKC och KR träffarna är gratis och är för GAFs medlemmar och GAFs Pa
 rtners.\n(Är du inte medlem i GAF? Kontakta GAF kansli).\n\nFör mer info
 rmation eller frågor\, kontakta\n\nAnna Tidén på telefon 08-622 15 51 e
 ller epost anna@gafsverige.se\n\nHjärtligt välkomna!\nGAF Kansli\, GAF s
 tyrelse och GAF Partners samt Värdklubben\n\n&nbsp\;
ATTACH;FMTTYPE=image/jpeg:https://gafsverige.se/wp-content/uploads/2026/03
 /umea-norrmjole-GK-1920x1080px-2605_0001.png
CATEGORIES:KC och KR träffar,Medlem
LOCATION:Umeå Norrmjöle Golfklubb\, Kläppuddsvägen 51\, UMEÅ\, 905 82\
 , Sverige
X-APPLE-STRUCTURED-LOCATION;VALUE=URI;X-ADDRESS=Kläppuddsvägen 51\, UMEÅ
 \, 905 82\, Sverige;X-APPLE-RADIUS=100;X-TITLE=Umeå Norrmjöle Golfklubb:
 geo:0,0
END:VEVENT
BEGIN:VTIMEZONE
TZID:Europe/Stockholm
X-LIC-LOCATION:Europe/Stockholm
BEGIN:DAYLIGHT
DTSTART:20260329T030000
TZOFFSETFROM:+0100
TZOFFSETTO:+0200
TZNAME:CEST
END:DAYLIGHT
END:VTIMEZONE
END:VCALENDAR