BEGIN:VCALENDAR
VERSION:2.0
PRODID:-//wp-events-plugin.com//6.6.3//EN
TZID:Europe/Stockholm
X-WR-TIMEZONE:Europe/Stockholm
BEGIN:VEVENT
UID:110@gafsverige.se
DTSTART;TZID=Europe/Stockholm:20260512T093000
DTEND;TZID=Europe/Stockholm:20260512T160000
DTSTAMP:20260331T012236Z
URL:https://gafsverige.se/events/kc-traff-bokskogens-golfklubb-vt-2026/
SUMMARY:KC träff - Bokskogens Golfklubb
DESCRIPTION:Välkommen till GAF regionträff för Klubbchef/VD på Bokskoge
 ns GK\n\nGAF bjuder in dig som klubbchef eller motsvarande till träff med
  utbildning\, erfarenhetsutbyte och diskussioner. Vi träffas på olika pl
 atser (se kalendern) och du väljer den som är bäst för dig.\n\nDet kom
 mer att finnas mycket att prata om i år. Hur tar vi oss an dagsaktuella 
 ärenden och framtida utmaningar. Presentationer av klubben där vi är 
 – allt från nytt klubbhus till nyrenoverad bana – alltid har det hän
 t något där vi är. Stora möjligheter att bjuda på din kunskap och ta 
 del av andras lärdomar. Erfarenhetsutbyte\, glädje och gemenskap.\nDagen
  börjar med en presentation av värdklubben. Sen kör vi i gång med disk
 ussioner och presentationer kring aktuella frågeställningar eller annat 
 upplägg i större och/eller mindre grupper. I samband med lunch presenter
 ar GAF partners några av årets nyheter\, varor och tjänster. Efter lunc
 h fortsätter vi med diskussioner och presentationer och erfarenhetsutbyte
 . På flera platser kommer personal från GIT teamet att vara med och svar
 ar på frågor och berättar om nyheter i GIT systemet. Resultaten från h
 östens/vinterns Arbetsmiljö- &amp\; medarbetar undersökningen presenter
 as..\n\nRamprogram för träffarna. Aktuellt program skickas ut till delta
 garna via epost innan aktuell träff.\n\nRamprogram:\n\nVi träffas på go
 lfanläggningen aktuell dag med fika och uppstart från kl 09.30. Start 10
 .00.\n\nStart 10.00\n\n 	Värdklubben hälsar välkommen och berättar kor
 t om klubben och anläggningen\n 	Presentationer\, inledning och upplägg 
 av dagen\n 	Diskussioner och presentationer kring aktuella frågeställnin
 gar eller annat upplägg\n 	Resultaten från Arbetsmiljöundersökningen\n
  	Korta GAF Partnerspresentationer\n\nLunch ca 12.45\n\n 	GIT teamets timm
 a\n 	Fortsatta diskussioner och presentationer\n 	Avslut med kaffe och kak
 a ca 15.30\n 	Golf för de som önskar umgås och spela- anmäl om du är 
 intresserad!\n\nAnmälan\n\nSista anmälningsdag är 7 dagar innan träffe
 n.\n\nKostnad\n\nGAF bjuder på kaffe och fralla på förmiddagen\nDeltaga
 rna betalar lunchen själva\nKlubben brukar bjuda på kaffe och liten kaka
  på eftermiddagen\n\nKC och KR träffarna är gratis och är för GAFs me
 dlemmar och GAFs Partners.\n(Är du inte medlem i GAF? Kontakta GAF kansli
 ).\n\nFör mer information eller frågor\, kontakta\n\nAnna Tidén på tel
 efon 08-622 15 51 eller epost anna@gafsverige.se\n\nHjärtligt välkomna!\
 nGAF Kansli\, GAF styrelse och GAF Partners samt Värdklubben\n\n&nbsp\;
ATTACH;FMTTYPE=image/jpeg:https://gafsverige.se/wp-content/uploads/2026/03
 /Bokskogens-GK-1920x1080px-2605_0001.png?ver=1773779489
CATEGORIES:KC och KR träffar,Medlem
LOCATION:Bokskogens Golfklubb\, Torupsvägen 408-140\, BARA\, 233 64\, Sver
 ige
X-APPLE-STRUCTURED-LOCATION;VALUE=URI;X-ADDRESS=Torupsvägen 408-140\, BARA
 \, 233 64\, Sverige;X-APPLE-RADIUS=100;X-TITLE=Bokskogens Golfklubb:geo:0,
 0
END:VEVENT
BEGIN:VTIMEZONE
TZID:Europe/Stockholm
X-LIC-LOCATION:Europe/Stockholm
BEGIN:DAYLIGHT
DTSTART:20260329T030000
TZOFFSETFROM:+0100
TZOFFSETTO:+0200
TZNAME:CEST
END:DAYLIGHT
END:VTIMEZONE
END:VCALENDAR