BEGIN:VCALENDAR
VERSION:2.0
PRODID:-//wp-events-plugin.com//6.6.3//EN
TZID:Europe/Stockholm
X-WR-TIMEZONE:Europe/Stockholm
BEGIN:VEVENT
UID:109@gafsverige.se
DTSTART;TZID=Europe/Stockholm:20260511T093000
DTEND;TZID=Europe/Stockholm:20260511T160000
DTSTAMP:20260331T012147Z
URL:https://gafsverige.se/events/kr-traff-bokskogens-golfklubb-vt-2026/
SUMMARY:KR träff - Bokskogens Golfklubb
DESCRIPTION:Välkommen till GAF regionträff för Kansli/Reception på Boks
 kogens GK\n\nGAF bjuder in dig som kanslist &amp\; receptionist eller mots
 varande till träff med utbildning\, erfarenhetsutbyte och diskussioner. V
 i träffas på olika platser (se kalendern) och du väljer den som är bä
 st för dig.\n\nDet kommer att finnas mycket att prata om i år. Hur tar v
 i oss an dagsaktuella ärenden och framtida utmaningar. Presentationer av 
 klubben där vi är – allt från nytt klubbhus till nyrenoverad bana –
  alltid har det hänt något där vi är. Stora möjligheter att bjuda på
  din kunskap och ta del av andras lärdomar. Erfarenhetsutbyte\, glädje o
 ch gemenskap.\nDagen börjar med en presentation av värdklubben. Sen kör
  vi i gång med diskussioner och presentationer kring aktuella frågestäl
 lningar eller annat upplägg i större och/eller mindre grupper. I samband
  med lunch presenterar GAF partners några av årets nyheter\, varor och t
 jänster. Efter lunch fortsätter vi med diskussioner och presentationer o
 ch erfarenhetsutbyte. På flera platser kommer personal från GIT teamet a
 tt vara med och svarar på frågor och berättar om nyheter i GIT systemet
 . Resultaten från höstens/vinterns Arbetsmiljö- &amp\; medarbetar under
 sökningen presenteras..\n\nRamprogram för träffarna. Aktuellt program s
 kickas ut till deltagarna via epost innan aktuell träff.\n\nRamprogram:\n
 \nVi träffas på golfanläggningen aktuell dag med fika och uppstart frå
 n kl 09.30. Start 10.00.\n\nStart 10.00\n\n 	Värdklubben hälsar välkomm
 en och berättar kort om klubben och anläggningen\n 	Presentationer\, inl
 edning och upplägg av dagen\n 	Diskussioner och presentationer kring aktu
 ella frågeställningar eller annat upplägg\n 	Resultaten från Arbetsmil
 jöundersökningen\n 	Korta GAF Partnerspresentationer\n\nLunch ca 12.45\n
 \n 	GIT teamets timma\n 	Fortsatta diskussioner och presentationer\n 	Avsl
 ut med kaffe och kaka ca 15.30\n 	Golf för de som önskar umgås och spel
 a- anmäl om du är intresserad!\n\nAnmälan\n\nSista anmälningsdag är 7
  dagar innan träffen.\n\nKostnad\n\nGAF bjuder på kaffe och fralla på f
 örmiddagen\nDeltagarna betalar lunchen själva\nKlubben brukar bjuda på 
 kaffe och liten kaka på eftermiddagen\n\nKC och KR träffarna är gratis 
 och är för GAFs medlemmar och GAFs Partners.\n(Är du inte medlem i GAF?
  Kontakta GAF kansli).\n\nFör mer information eller frågor\, kontakta\n\
 nAnna Tidén på telefon 08-622 15 51 eller epost anna@gafsverige.se\n\nHj
 ärtligt välkomna!\nGAF Kansli\, GAF styrelse och GAF Partners samt Värd
 klubben\n\n&nbsp\;
ATTACH;FMTTYPE=image/jpeg:https://gafsverige.se/wp-content/uploads/2026/03
 /Bokskogens-GK-1920x1080px-2605_0001.png?ver=1773779489
CATEGORIES:KC och KR träffar,Medlem
LOCATION:Bokskogens Golfklubb\, Torupsvägen 408-140\, BARA\, 233 64\, Sver
 ige
X-APPLE-STRUCTURED-LOCATION;VALUE=URI;X-ADDRESS=Torupsvägen 408-140\, BARA
 \, 233 64\, Sverige;X-APPLE-RADIUS=100;X-TITLE=Bokskogens Golfklubb:geo:0,
 0
END:VEVENT
BEGIN:VTIMEZONE
TZID:Europe/Stockholm
X-LIC-LOCATION:Europe/Stockholm
BEGIN:DAYLIGHT
DTSTART:20260329T030000
TZOFFSETFROM:+0100
TZOFFSETTO:+0200
TZNAME:CEST
END:DAYLIGHT
END:VTIMEZONE
END:VCALENDAR