BEGIN:VCALENDAR
VERSION:2.0
PRODID:-//wp-events-plugin.com//6.6.3//EN
TZID:Europe/Stockholm
X-WR-TIMEZONE:Europe/Stockholm
BEGIN:VEVENT
UID:36@gafsverige.se
DTSTART;TZID=Europe/Stockholm:20240603T093000
DTEND;TZID=Europe/Stockholm:20240603T153000
DTSTAMP:20240603T132420Z
URL:https://gafsverige.se/events/kr-traff-kungl-drottningholms-gk-2024/
SUMMARY:KR träff - Kungl. Drottningholms GK
DESCRIPTION:Välkommen till Kansli &amp\; Reception träff på Kungl. Drott
 ningholms GK (träffen är flyttad till hösten 2024)\n\nDu kommer att få
  möjlighet att utbyta kunskaper och erfarenheter med dina kollegor i bran
 schen. En givande och trevlig dag där vårens tema är ”10/15/15”. Er
 farenheter och diskussioner kring olika utmaningar som har varit\, som vi 
 är mitt i eller som ligger framför oss. Det kommer det bli stort utrymme
  för samtal i olika konstellationer.\n\nDagen börjar med en presentation
  av värdklubben. Sen kör vi i gång med diskussioner i större och mindr
 e grupper. I samband med lunch presenterar GAF partners några av årets n
 yheter\, varor och tjänster. Efter lunch fortsätter vi på temat diskuss
 ioner och erfarenhetsutbyte.\n\nVi träffas på golfanläggningen aktuell 
 dag med fika från kl 09.30. Start kl 10.00.\n\nRamprogram:\n\nFika från
  09.30 och Start kl 10.00\n\n 	Värdklubben hälsar välkommen och berätt
 ar kort om klubben och anläggningen\n 	Presentationer\, inledning och upp
 lägg av dagen\n 	10/15/15 Workshop kring angelägna frågeställningar\n 
 	GAF Partnerpresentationer\n\nLunch ca 12.30\n\n 	Eftermiddagens 10/15/15\
 n\nFika ca 15.00\n\n 	Fortsatta diskussioner\n 	Avslut senast 16.00\n\nFö
 r mer information eller frågor\, kontakta\n\nAnna Tidén på telefon 08-6
 22 15 51 eller epost anna@gafsverige.se\n\nHjärtligt välkomna!\nGAF Kan
 sli\, GAF styrelse och GAF Partners samt Värdklubben\n\nOBS!!!\nTräffen 
 är flyttad till hösten 2024. GAF Kansli återkommer efter sommaren med n
 ytt datum.
ATTACH;FMTTYPE=image/jpeg:https://gafsverige.se/wp-content/uploads/2023/10
 /gaf-img-1.png
CATEGORIES:KC och KR träffar,Medlem
LOCATION:Kungl. Drottningholms Golfklubb\, Lovö Kyrkallé 1\, DROTTNINGHOL
 M\, 178 93\, Sverige
X-APPLE-STRUCTURED-LOCATION;VALUE=URI;X-ADDRESS=Lovö Kyrkallé 1\, DROTTNI
 NGHOLM\, 178 93\, Sverige;X-APPLE-RADIUS=100;X-TITLE=Kungl. Drottningholms
  Golfklubb:geo:0,0
END:VEVENT
BEGIN:VTIMEZONE
TZID:Europe/Stockholm
X-LIC-LOCATION:Europe/Stockholm
BEGIN:DAYLIGHT
DTSTART:20240331T030000
TZOFFSETFROM:+0100
TZOFFSETTO:+0200
TZNAME:CEST
END:DAYLIGHT
END:VTIMEZONE
END:VCALENDAR