BEGIN:VCALENDAR
VERSION:2.0
PRODID:-//wp-events-plugin.com//6.6.3//EN
TZID:Europe/Stockholm
X-WR-TIMEZONE:Europe/Stockholm
BEGIN:VEVENT
UID:107@gafsverige.se
DTSTART;TZID=Europe/Stockholm:20260422T100000
DTEND;TZID=Europe/Stockholm:20260423T153000
DTSTAMP:20260421T175652Z
URL:https://gafsverige.se/events/nya-klubbchefer-2026/
SUMMARY:Nya Klubbchefer och Kanslister
DESCRIPTION:Är du ny eller relativt ny klubbchef eller kanslist i golfbran
 schen?\nVälkommen som ny eller relativt ny klubbchef/VD eller Kanslist i 
 Golfsverige och grattis till din nya roll!\nVi på GAF vill hälsa dig var
 mt välkommen till två inspirerande dagar tillsammans med kollegor från 
 branschen.\n\nDet här är en träff för dig som vill:\n\n 	Skapa värdef
 ulla kontakter med kollegor och partners\n 	Möta erfarna klubbchefer som 
 delar med sig av sina erfarenheter\n 	Få inblick i SGF strategi 2031 och 
 rådgivarorganisationen\n 	Kunskaper i GIT och informationssäkerhet\n 	Wo
 rkshops med erfarna KC och diskutera aktuella frågor\n 	Träffa våra sam
 verkanspartners\n 	Få konkreta verktyg att ta med hem till din egen klubb
 \n 	Och såklart – tid för mingel och en gemensam middag\n\nVi varvar f
 öreläsningar\, samtal\, workshops\, mingel och gemensamma måltider – 
 allt för att du ska få både kunskap\, nätverk och energi i din nya rol
 l.\n\nLäs mer om programmet här &gt\;&gt\;&gt\;\n\nDet här är en chans
  att landa i din nya roll tillsammans med andra som är i samma situation 
 – och att bygga ett nätverk som du kommer ha nytta av länge.\n\nEvente
 t är öppet för alla nya Klubbchefer &amp\; Kanslister - Självkostnadsp
 ris (fikor\, luncher\, middag och dryck)\n\nDatum och tid: 22-23 april 202
 6. Ca 10.00-15.00.\nPlats: Idrottens hus i Stockholm. Skansbrogatan 7.\nLo
 kal: Idrottens hus\, Stadion\n\nVi ser verkligen fram emot att träffa dig
 !\n\nHör gärna av dig om du har några frågor. Anna Tidén 070-2484032\
 nVarmt välkommen\,\nGAF kansli och styrelse\n\nÖnskas övernattning?\n\n
 Deltagaren bokar själv logi. Bokningskoder och/eller erbjudande finns i b
 ekräftelsen.\nBokningskoder:\nMotel L Hammarby Sjöstad: 3129713 (https:/
 /ligula.se/sv - ProfilHotels\, Collection\, Motel L\, Good Morning Hotels\
 , Hosting och Apartments by Ligula.)\nScandic Hotels: D000004757 (RF/SGF a
 vtal gäller hela 2026 för alla "golfare")\n\n\nSista anmälningsdag 12 a
 pril 2026\n\nAvanmälan\n100% återbetalning vid avanmälan 4 veckor innan
  start.\n50% återbetalning vid avanmälan 2 veckor innan start.\nAvanmäl
 an mindre än 2 veckor innan ges ingen återbetalning.\nAvanmälan görs t
 ill GAF kansli på kansli@gafsverige.se.\n\nVäl mött – anmäl dig reda
 n idag!\n\n&nbsp\;
ATTACH;FMTTYPE=image/jpeg:https://gafsverige.se/wp-content/uploads/2024/02
 /nya-kc-nya-kr-anna-1920x1080-2019-010.png
CATEGORIES:Medlem
LOCATION:Idrottens Hus / Stockholm\, Skansbrogatan 7\, STOCKHOLM\, 11860\, 
 Sverige
X-APPLE-STRUCTURED-LOCATION;VALUE=URI;X-ADDRESS=Skansbrogatan 7\, STOCKHOLM
 \, 11860\, Sverige;X-APPLE-RADIUS=100;X-TITLE=Idrottens Hus / Stockholm:ge
 o:0,0
END:VEVENT
BEGIN:VTIMEZONE
TZID:Europe/Stockholm
X-LIC-LOCATION:Europe/Stockholm
BEGIN:DAYLIGHT
DTSTART:20260329T030000
TZOFFSETFROM:+0100
TZOFFSETTO:+0200
TZNAME:CEST
END:DAYLIGHT
END:VTIMEZONE
END:VCALENDAR